BEGIN:VCALENDAR
VERSION:2.0
PRODID:-//wp-events-plugin.com//7.2.2.1//EN
TZID:Europe/Berlin
X-WR-TIMEZONE:Europe/Berlin
BEGIN:VEVENT
UID:303@dgtveit.at
DTSTART;TZID=Europe/Berlin:20261117T081500
DTEND;TZID=Europe/Berlin:20261119T163000
DTSTAMP:20260124T160805Z
URL:https://www.dgtveit.at/en/dgtraining/presence-refresher-training-witho
 ut-class-7-radioactive-substances-iata-7-3-code-cf-until-2022-pk-36-10/
SUMMARY:Presence refresher training (without class 7 - radioactive substanc
 es) - IATA 7.3 / Code C+F / until 2022 PK 3+6
DESCRIPTION:Course Number\n53/2026\n\nCourse Language\nGerman\n\nDescriptio
 n\nClassroom-based training for personnel responsible for the handling or 
 acceptance of dangerous goods consignments – (Function Codes: C + F / IA
 TA 7.3)\n\nTarget Group\nEmployees of air cargo agents and freight forward
 ers who prepare air waybills for dangerous goods consignments\, as well as
  employees of ground handling service providers and air carriers who perfo
 rm acceptance checks – excluding Class 7 (radioactive material)\n\nDate\
 n17–19 November 2026\n\nSchedule\nTuesday and Wednesday: 08:15 – appro
 x. 16:30Thursday: 08:15 – approx. 12:00\n\nLocation\nLakefirst Coworking
  Space\, Eva-Maria-Mazzucco-Platz 2\, 1220 Vienna\nArrival by public trans
 port:Underground line U2\, station Seestadt\, approx. 5 minutes on foot\nA
 rrival by car:Several parking garages in the immediate vicinity\, e.g.Park
 haus Seehub\, Sonnenallee 16 (daily rate € 4.50)Goldbeck Parkgarage\, So
 nnenallee 26 (daily rate € 4.50)Various WIPARK garages (daily rate appro
 x. € 25.00)\nAccommodation:Hotel DORMERO HoHo Wien\, Wangari-Maathai-Pla
 tz 1 (approx. 5 minutes on foot)FeelGood Apartments\, Maria-Trapp-Platz 1 
 (approx. 5 minutes on foot)Alternatively\, we recommend choosing a hotel n
 ear underground line U2.\n\nPrice\n€ 600.00 excl. VAT\n\nThe Price Inclu
 des\nTraining materialsExamination and certificate (upon successful comple
 tion)\, recognized by Austro Control GmbH and IATAVarious non-alcoholic be
 verages (coffee and tea)\nA current IATA Dangerous Goods Regulations (DGR)
  manual will be provided on loan for the duration of the course.\n\nCourse
  Contents\nImportant changes and amendments to the IATA Dangerous Goods Re
 gulationsBrief review of key topics from the initial trainingPractical exe
 rcises\n\nValidity Period\n2 years\n\nTraining Needs Analysis\nDue to the 
 new air transport dangerous goods training requirements\, employers have b
 een required since January 2023 to carry out an internal training needs an
 alysis. This ensures that the required training content meets your specifi
 c needs.\nWe have already prepared training needs analyses in accordance w
 ith the IATA regulations. The applicable needs analysis for this course is
  provided in detail below:\nTraining Needs Analysis
CATEGORIES:Air freight forwarders,Air freight refresher training,Classroom
 training,German,Ground handling refresher training,Ground handling service
 providers and airlines
LOCATION:Vienna / Lakefirst Coworking Space\, Eva-Maria-Mazzucco-Platz 2\, 
 Vienna\, 1220\, Austria
GEO:48.225484;16.504463
X-APPLE-STRUCTURED-LOCATION;VALUE=URI;X-ADDRESS=Eva-Maria-Mazzucco-Platz 2\
 , Vienna\, 1220\, Austria;X-APPLE-RADIUS=100;X-TITLE=Vienna / Lakefirst Co
 working Space:geo:48.225484,16.504463
END:VEVENT
BEGIN:VTIMEZONE
TZID:Europe/Berlin
X-LIC-LOCATION:Europe/Berlin
BEGIN:STANDARD
DTSTART:20261025T020000
TZOFFSETFROM:+0200
TZOFFSETTO:+0100
TZNAME:CET
END:STANDARD
END:VTIMEZONE
END:VCALENDAR