BEGIN:VCALENDAR
VERSION:2.0
PRODID:-//wp-events-plugin.com//7.2.2.1//EN
TZID:Europe/Berlin
X-WR-TIMEZONE:Europe/Berlin
BEGIN:VEVENT
UID:302@dgtveit.at
DTSTART;TZID=Europe/Vienna:20261027T081500
DTEND;TZID=Europe/Vienna:20261030T163000
DTSTAMP:20260124T155851Z
URL:https://www.dgtveit.at/en/dgtraining/presence-refresher-training-incl-
 class-7-radioactive-substances-iata-7-1-code-a-until-2022-pk-1-6/
SUMMARY:Presence refresher training (incl. class 7 - radioactive substances
 ) - IATA 7.1 / Code A / until 2022 PK 1
DESCRIPTION:Course Number\n50/2026\n\nCourse Language\nGerman\n\nDescriptio
 n\nClassroom-based training for personnel responsible for the preparation 
 of dangerous goods consignments (completion of the Shipper’s Declaration
  for Dangerous Goods\, packing\, marking and labeling of packages and over
 packs) – (Function Code: A / IATA: 7.1)\n\nTarget Group\nShippers of dan
 gerous goods – including Class 7 (radioactive material)\n\nDate\n27–30
  October 2026\n\nSchedule\nTuesday to Thursday: 08:15 – approx. 16:30Fri
 day: 08:15 – approx. 12:00\n\nLocation\nLakefirst Coworking Space\, Eva-
 Maria-Mazzucco-Platz 2\, 1220 Vienna\nArrival by public transport:Undergro
 und line U2\, station Seestadt\, approx. 5 minutes on foot\nArrival by car
 :Several parking garages in the immediate vicinity\, e.g.Parkhaus Seehub\,
  Sonnenallee 16 (daily rate € 4.50)Goldbeck Parkgarage\, Sonnenallee 26 
 (daily rate € 4.50)Various WIPARK garages (daily rate approx. € 25.00)
 \nAccommodation:Hotel DORMERO HoHo Wien\, Wangari-Maathai-Platz 1 (approx.
  5 minutes on foot)FeelGood Apartments\, Maria-Trapp-Platz 1 (approx. 5 mi
 nutes on foot)Alternatively\, we recommend choosing a hotel near undergrou
 nd line U2.\n\nPrice\n€ 760.00 excl. VAT\n\nThe Price Includes\nTraining
  materialsExamination and certificate (upon successful completion)\, recog
 nized by Austro Control GmbHVarious non-alcoholic beverages (coffee and te
 a)\nA current IATA Dangerous Goods Regulations (DGR) manual will be provid
 ed on loan for the duration of the course.\nFor shippers (IATA 7.1 / Funct
 ion Code A)\, an Austro Control–recognized certificate is sufficient in 
 practice.If required\, we can additionally issue an IATA-recognized certif
 icate for a fee of € 80.00 (excl. VAT).Please indicate this briefly in t
 he “Comment” field when booking.\n\nCourse Contents\nImportant changes
  and amendments to the IATA Dangerous Goods RegulationsBrief review of key
  topics from the initial trainingPractical exercises\n\nValidity Period\n2
  years\n\nTraining Needs Analysis\nDue to the new air transport dangerous 
 goods training requirements\, employers have been required since January 2
 023 to carry out an internal training needs analysis. This ensures that th
 e required training content meets your specific needs.\nWe have already pr
 epared training needs analyses in accordance with the IATA regulations. Th
 e applicable needs analysis for this course is provided in detail below:\n
 Training Needs Analysis
CATEGORIES:Classroom training,German,Shipper / packer of dangerous
 goods,Shipper refresher training
LOCATION:Vienna / Lakefirst Coworking Space\, Eva-Maria-Mazzucco-Platz 2\, 
 Vienna\, 1220\, Austria
GEO:48.225484;16.504463
X-APPLE-STRUCTURED-LOCATION;VALUE=URI;X-ADDRESS=Eva-Maria-Mazzucco-Platz 2\
 , Vienna\, 1220\, Austria;X-APPLE-RADIUS=100;X-TITLE=Vienna / Lakefirst Co
 working Space:geo:48.225484,16.504463
END:VEVENT
BEGIN:VTIMEZONE
TZID:Europe/Vienna
X-LIC-LOCATION:Europe/Vienna
BEGIN:STANDARD
DTSTART:20261025T020000
TZOFFSETFROM:+0200
TZOFFSETTO:+0100
TZNAME:CET
END:STANDARD
END:VTIMEZONE
END:VCALENDAR