BEGIN:VCALENDAR
VERSION:2.0
PRODID:-//wp-events-plugin.com//7.2.2.1//EN
TZID:Europe/Berlin
X-WR-TIMEZONE:Europe/Berlin
BEGIN:VEVENT
UID:305@dgtveit.at
DTSTART;TZID=Europe/Berlin:20261123T081500
DTEND;TZID=Europe/Berlin:20261126T163000
DTSTAMP:20260124T161150Z
URL:https://www.dgtveit.at/en/dgtraining/presence-initial-training-without
 -class-7-radioactive-substances-iata-7-3-code-cf-until-2022-pk-36-16/
SUMMARY:Presence initial training (without class 7 - radioactive substances
 ) - IATA 7.3 / Code C+F / until 2022 PK 3+6
DESCRIPTION:Course Number\n55/2026\n\nCourse Language\nGerman\n\nDescriptio
 n\nClassroom-based training for personnel responsible for the handling or 
 acceptance of dangerous goods consignments – (Function Codes: C + F / IA
 TA 7.3)\n\nTarget Group\nEmployees of air cargo agents and freight forward
 ers who prepare air waybills for dangerous goods consignments\, as well as
  employees of ground handling service providers and air carriers who perfo
 rm acceptance checks – excluding Class 7 (radioactive material)\n\nDate\
 n23–26 November 2026\n\nSchedule\nMonday to Wednesday: 08:15 – approx.
  16:30Thursday: 08:15 – approx. 12:00\n\nLocation\nLakefirst Coworking S
 pace\, Eva-Maria-Mazzucco-Platz 2\, 1220 Vienna\nArrival by public transpo
 rt:Underground line U2\, station Seestadt\, approx. 5 minutes on foot\nArr
 ival by car:Several parking garages in the immediate vicinity\, e.g.Parkha
 us Seehub\, Sonnenallee 16 (daily rate € 4.50)Goldbeck Parkgarage\, Sonn
 enallee 26 (daily rate € 4.50)Various WIPARK garages (daily rate approx.
  € 25.00)\nAccommodation:Hotel DORMERO HoHo Wien\, Wangari-Maathai-Platz
  1 (approx. 5 minutes on foot)FeelGood Apartments\, Maria-Trapp-Platz 1 (a
 pprox. 5 minutes on foot)Alternatively\, we recommend choosing a hotel nea
 r underground line U2.\n\nPrice\n€ 840.00 excl. VAT\n\nThe Price Include
 s\nTraining materialsExamination and certificate (upon successful completi
 on)\, recognized by Austro Control GmbH and IATAVarious non-alcoholic beve
 rages (coffee and tea)\nA current IATA Dangerous Goods Regulations (DGR) m
 anual will be provided on loan for the duration of the course.\n\nCourse C
 ontents\nModule 0: Understanding the Basics of Dangerous Goods(Understandi
 ng the fundamentals of dangerous goods / Understanding general limitations
  / Determining roles and responsibilities / Understanding the importance o
 f classification and packaging / Understanding hazard communication / Beco
 ming familiar with basic emergency response actions)\nModule 3: Cargo Hand
 ling / Cargo Acceptance(Checking documentation / Inspecting package(s) / C
 arrying out acceptance procedures)\nModule 7: Collecting Safety Data(Repor
 ting dangerous goods accidents\, dangerous goods incidents\, undeclared or
  misdeclared dangerous goods\, and dangerous goods occurrences)\nPractical
  exercises\n\nValidity Period\n2 years\n\nTraining Needs Analysis\nDue to 
 the new air transport dangerous goods training requirements\, employers ha
 ve been required since January 2023 to carry out an internal training need
 s analysis. This ensures that the required training content meets your spe
 cific needs.\nWe have already prepared training needs analyses in accordan
 ce with the IATA regulations. The applicable needs analysis for this cours
 e is provided in detail below:\nTraining Needs Analysis
CATEGORIES:Air freight forwarders,Air freight initial training,Classroom
 training,German,Ground handling initial training,Ground handling service
 providers and airlines
LOCATION:Vienna / Lakefirst Coworking Space\, Eva-Maria-Mazzucco-Platz 2\, 
 Vienna\, 1220\, Austria
GEO:48.225484;16.504463
X-APPLE-STRUCTURED-LOCATION;VALUE=URI;X-ADDRESS=Eva-Maria-Mazzucco-Platz 2\
 , Vienna\, 1220\, Austria;X-APPLE-RADIUS=100;X-TITLE=Vienna / Lakefirst Co
 working Space:geo:48.225484,16.504463
END:VEVENT
BEGIN:VTIMEZONE
TZID:Europe/Berlin
X-LIC-LOCATION:Europe/Berlin
BEGIN:STANDARD
DTSTART:20261025T020000
TZOFFSETFROM:+0200
TZOFFSETTO:+0100
TZNAME:CET
END:STANDARD
END:VTIMEZONE
END:VCALENDAR