BEGIN:VCALENDAR
VERSION:2.0
PRODID:-//wp-events-plugin.com//7.2.2.1//EN
TZID:Europe/Berlin
X-WR-TIMEZONE:Europe/Berlin
BEGIN:VEVENT
UID:296@dgtveit.at
DTSTART;TZID=Europe/Berlin:20260914T081500
DTEND;TZID=Europe/Berlin:20260917T163000
DTSTAMP:20260124T150242Z
URL:https://www.dgtveit.at/en/dgtraining/presence-initial-training-without
 -class-7-radioactive-substances-iata-7-3-code-cf-until-2022-pk-36-13/
SUMMARY:Presence initial training (without class 7 - radioactive substances
 ) - IATA 7.3 / Code C+F / until 2022 PK 3+6
DESCRIPTION:Course Number\n35/2026\n\nCourse Language\nGerman\n\nDescriptio
 n\nClassroom-based training for personnel responsible for the handling or 
 acceptance of dangerous goods consignments – (Function Codes: C + F / IA
 TA 7.3)\n\nTarget Group\nEmployees of air cargo agents and freight forward
 ers who prepare air waybills for dangerous goods consignments\, as well as
  employees of ground handling service providers and air carriers who perfo
 rm acceptance checks – excluding Class 7 (radioactive material)\n\nDate\
 n14–17 September 2026\n\nSchedule\nMonday to Wednesday: 08:15 – approx
 . 16:30Thursday: 08:15 – approx. 12:00\n\nLocation\nLakefirst Coworking 
 Space\, Eva-Maria-Mazzucco-Platz 2\, 1220 Vienna\nArrival by public transp
 ort:Underground line U2\, station Seestadt\, approx. 5 minutes on foot\nAr
 rival by car:Several parking garages in the immediate vicinity\, e.g.Parkh
 aus Seehub\, Sonnenallee 16 (daily rate € 4.50)Goldbeck Parkgarage\, Son
 nenallee 26 (daily rate € 4.50)Various WIPARK garages (daily rate approx
 . € 25.00)\nAccommodation:Hotel DORMERO HoHo Wien\, Wangari-Maathai-Plat
 z 1 (approx. 5 minutes on foot)FeelGood Apartments\, Maria-Trapp-Platz 1 (
 approx. 5 minutes on foot)Alternatively\, we recommend choosing a hotel ne
 ar underground line U2.\n\nPrice\n€ 840.00 excl. VAT\n\nThe Price Includ
 es\nTraining materialsExamination and certificate (upon successful complet
 ion)\, recognized by Austro Control GmbH and IATAVarious non-alcoholic bev
 erages (coffee and tea)\nA current IATA Dangerous Goods Regulations (DGR) 
 manual will be provided on loan for the duration of the course.\n\nCourse 
 Contents\nModule 0: Understanding the Fundamentals of Dangerous Goods(Unde
 rstanding the basics of dangerous goods / understanding general limitation
 s / determining roles and responsibilities / understanding the importance 
 of classification and packaging / understanding hazard communication / bec
 oming familiar with basic emergency response measures)\nModule 3: Cargo Ha
 ndling / Cargo Acceptance(Checking documentation / inspecting package(s) /
  carrying out acceptance procedures)\nModule 7: Collecting Safety Data(Rep
 orting dangerous goods accidents\, dangerous goods incidents\, undeclared 
 or misdeclared dangerous goods\, and dangerous goods occurrences)\nPractic
 al exercises\n\nValidity Period\n2 years\n\nTraining Needs Analysis\nDue t
 o the new air transport dangerous goods training requirements\, employers 
 have been required since January 2023 to carry out an internal training ne
 eds analysis. This ensures that the required training content meets your s
 pecific needs.\nWe have already prepared training needs analyses in accord
 ance with the IATA regulations. The applicable needs analysis for this cou
 rse is provided in detail below:\nTraining Needs Analysis
CATEGORIES:Air freight forwarders,Air freight initial training,Classroom
 training,German,Ground handling initial training,Ground handling service
 providers and airlines
LOCATION:Vienna / Lakefirst Coworking Space\, Eva-Maria-Mazzucco-Platz 2\, 
 Vienna\, 1220\, Austria
GEO:48.225484;16.504463
X-APPLE-STRUCTURED-LOCATION;VALUE=URI;X-ADDRESS=Eva-Maria-Mazzucco-Platz 2\
 , Vienna\, 1220\, Austria;X-APPLE-RADIUS=100;X-TITLE=Vienna / Lakefirst Co
 working Space:geo:48.225484,16.504463
END:VEVENT
BEGIN:VTIMEZONE
TZID:Europe/Berlin
X-LIC-LOCATION:Europe/Berlin
BEGIN:DAYLIGHT
DTSTART:20260329T030000
TZOFFSETFROM:+0100
TZOFFSETTO:+0200
TZNAME:CEST
END:DAYLIGHT
END:VTIMEZONE
END:VCALENDAR