BEGIN:VCALENDAR
VERSION:2.0
PRODID:-//wp-events-plugin.com//7.2.2.1//EN
TZID:Europe/Berlin
X-WR-TIMEZONE:Europe/Berlin
BEGIN:VEVENT
UID:284@dgtveit.at
DTSTART;TZID=Europe/Vienna:20260511T081500
DTEND;TZID=Europe/Vienna:20260512T163000
DTSTAMP:20260124T125900Z
URL:https://www.dgtveit.at/en/dgtraining/presence-initial-training-without
 -class-7-radioactive-substances-iata-7-1-code-b-until-2022-pk-2-packers-3/
SUMMARY:Presence initial training (without class 7 - radioactive substances
 ) - IATA 7.1 / Code B / until 2022 PK 2 Packers
DESCRIPTION:Course Number\n22/2026\n\nCourse Language\nGerman\n\nDescriptio
 n\nClassroom-based training for personnel responsible for the preparation 
 of dangerous goods consignments (packing\, marking and labeling of package
 s and overpacks) – (Function Code: B / IATA: 7.1)\n\nTarget Group\nPacke
 rs of dangerous goods – excluding Class 7 (radioactive material)\n\nDate
 \n11–12 May 2026\n\nSchedule\nMonday and Tuesday: 08:15 – approx. 16:3
 0\n\nLocation\nLakefirst Coworking Space\, Eva-Maria-Mazzucco-Platz 2\, 12
 20 Vienna\nArrival by public transport:Underground line U2\, station Seest
 adt\, approx. 5 minutes on foot\nArrival by car:Several parking garages in
  the immediate vicinity\, e.g.Parkhaus Seehub\, Sonnenallee 16 (daily rate
  € 4.50)Goldbeck Parkgarage\, Sonnenallee 26 (daily rate € 4.50)Variou
 s WIPARK garages (daily rate approx. € 25.00)\nAccommodation:Hotel DORME
 RO HoHo Wien\, Wangari-Maathai-Platz 1 (approx. 5 minutes on foot)FeelGood
  Apartments\, Maria-Trapp-Platz 1 (approx. 5 minutes on foot)Alternatively
 \, we recommend choosing a hotel near underground line U2.\n\nPrice\n€ 4
 45.00 excl. VAT\n\nThe Price Includes\nTraining materialsExamination and c
 ertificate (upon successful completion)\, recognized by Austro Control Gmb
 H and IATAVarious non-alcoholic beverages (coffee and tea)\nA current IATA
  Dangerous Goods Regulations (DGR) manual will be provided on loan for the
  duration of the course.\n\nCourse Contents\nModule 0: Understanding the F
 undamentals of Dangerous Goods(Understanding the basics of dangerous goods
  / understanding general limitations / determining roles and responsibilit
 ies / understanding the importance of classification and packaging / under
 standing hazard communication / becoming familiar with basic emergency res
 ponse measures)\nModule 1: Classification of Dangerous Goods(Assessing a s
 ubstance or article against the classification criteria / determining the 
 proper shipping description of dangerous goods / checking special provisio
 ns)\nModule 2: Preparation of a Dangerous Goods Consignment(Checking packa
 ging options including quantity limitations / applying packaging requireme
 nts / affixing marks and labels / assessing the use of an overpack)\nPract
 ical exercises\n\nValidity Period\n2 years\n\nTraining Needs Analysis\nDue
  to the new air transport dangerous goods training requirements\, employer
 s have been required since January 2023 to carry out an internal training 
 needs analysis. This ensures that the required training content meets your
  specific needs.\nWe have already prepared training needs analyses in acco
 rdance with the IATA regulations. The applicable needs analysis for this c
 ourse is provided in detail below:\nTraining Needs Analyses
CATEGORIES:Classroom training,German,Shipper / packer of dangerous
 goods,Shipper initial training
LOCATION:Vienna / Lakefirst Coworking Space\, Eva-Maria-Mazzucco-Platz 2\, 
 Vienna\, 1220\, Austria
GEO:48.225484;16.504463
X-APPLE-STRUCTURED-LOCATION;VALUE=URI;X-ADDRESS=Eva-Maria-Mazzucco-Platz 2\
 , Vienna\, 1220\, Austria;X-APPLE-RADIUS=100;X-TITLE=Vienna / Lakefirst Co
 working Space:geo:48.225484,16.504463
END:VEVENT
BEGIN:VTIMEZONE
TZID:Europe/Vienna
X-LIC-LOCATION:Europe/Vienna
BEGIN:DAYLIGHT
DTSTART:20260329T030000
TZOFFSETFROM:+0100
TZOFFSETTO:+0200
TZNAME:CEST
END:DAYLIGHT
END:VTIMEZONE
END:VCALENDAR