BEGIN:VCALENDAR
VERSION:2.0
PRODID:-//wp-events-plugin.com//7.2.2.1//EN
TZID:Europe/Berlin
X-WR-TIMEZONE:Europe/Berlin
BEGIN:VEVENT
UID:297@dgtveit.at
DTSTART;TZID=Europe/Berlin:20260914T081500
DTEND;TZID=Europe/Berlin:20260918T163000
DTSTAMP:20260124T150453Z
URL:https://www.dgtveit.at/en/dgtraining/presence-initial-training-incl-cl
 ass-7-radioactive-substances-iata-7-3-code-cf-until-2022-pk-36-8/
SUMMARY:Presence initial training (incl. class 7 - radioactive substances) 
 - IATA 7.3 / Code C+F / until 2022 PK 3+6
DESCRIPTION:Course Number\n36/2026\n\nCourse Language\nGerman\n\nDescriptio
 n\nClassroom-based training for personnel responsible for the handling or 
 acceptance of dangerous goods consignments – (Function Codes: C + F / IA
 TA 7.3)\n\nTarget Group\nEmployees of air cargo agents and freight forward
 ers who prepare air waybills for dangerous goods consignments\, as well as
  employees of ground handling service providers and air carriers who perfo
 rm acceptance checks – including Class 7 (radioactive material)\n\nDate\
 n14–18 September 2026\n\nSchedule\nMonday to Thursday: 08:15 – approx.
  16:30Friday: 08:15 – approx. 12:00\n\nLocation\nLakefirst Coworking Spa
 ce\, Eva-Maria-Mazzucco-Platz 2\, 1220 Vienna\nArrival by public transport
 :Underground line U2\, station Seestadt\, approx. 5 minutes on foot\nArriv
 al by car:Several parking garages in the immediate vicinity\, e.g.Parkhaus
  Seehub\, Sonnenallee 16 (daily rate € 4.50)Goldbeck Parkgarage\, Sonnen
 allee 26 (daily rate € 4.50)Various WIPARK garages (daily rate approx. 
 € 25.00)\nAccommodation:Hotel DORMERO HoHo Wien\, Wangari-Maathai-Platz 
 1 (approx. 5 minutes on foot)FeelGood Apartments\, Maria-Trapp-Platz 1 (ap
 prox. 5 minutes on foot)Alternatively\, we recommend choosing a hotel near
  underground line U2.\n\nPrice\n€ 1\,080.00 excl. VAT\n\nThe Price Inclu
 des\nTraining materialsExamination and certificate (upon successful comple
 tion)\, recognized by Austro Control GmbH and IATAVarious non-alcoholic be
 verages (coffee and tea)\nA current IATA Dangerous Goods Regulations (DGR)
  manual will be provided on loan for the duration of the course.\n\nCourse
  Contents\nModule 0: Understanding the Fundamentals of Dangerous Goods(Und
 erstanding the basics of dangerous goods / understanding general limitatio
 ns / determining roles and responsibilities / understanding the importance
  of classification and packaging / understanding hazard communication / be
 coming familiar with basic emergency response measures)\nModule 3: Cargo H
 andling / Cargo Acceptance(Checking documentation / inspecting package(s) 
 / carrying out acceptance procedures)\nModule 7: Collecting Safety Data(Re
 porting dangerous goods accidents\, dangerous goods incidents\, undeclared
  or misdeclared dangerous goods\, and dangerous goods occurrences)\nPracti
 cal exercises\n\nValidity Period\n2 years\n\nTraining Needs Analysis\nDue 
 to the new air transport dangerous goods training requirements\, employers
  have been required since January 2023 to carry out an internal training n
 eeds analysis. This ensures that the required training content meets your 
 specific needs.\nWe have already prepared training needs analyses in accor
 dance with the IATA regulations. The applicable needs analysis for this co
 urse is provided in detail below:\nTraining Needs Analysis
CATEGORIES:Air freight forwarders,Air freight initial training,Classroom
 training,German,Ground handling initial training,Ground handling service
 providers and airlines
LOCATION:Vienna / Lakefirst Coworking Space\, Eva-Maria-Mazzucco-Platz 2\, 
 Vienna\, 1220\, Austria
GEO:48.225484;16.504463
X-APPLE-STRUCTURED-LOCATION;VALUE=URI;X-ADDRESS=Eva-Maria-Mazzucco-Platz 2\
 , Vienna\, 1220\, Austria;X-APPLE-RADIUS=100;X-TITLE=Vienna / Lakefirst Co
 working Space:geo:48.225484,16.504463
END:VEVENT
BEGIN:VTIMEZONE
TZID:Europe/Berlin
X-LIC-LOCATION:Europe/Berlin
BEGIN:DAYLIGHT
DTSTART:20260329T030000
TZOFFSETFROM:+0100
TZOFFSETTO:+0200
TZNAME:CEST
END:DAYLIGHT
END:VTIMEZONE
END:VCALENDAR