BEGIN:VCALENDAR
VERSION:2.0
PRODID:-//wp-events-plugin.com//7.2.2.1//EN
TZID:Europe/Berlin
X-WR-TIMEZONE:Europe/Berlin
BEGIN:VEVENT
UID:138@dgtveit.at
DTSTART;TZID=Europe/Vienna:20250922T081500
DTEND;TZID=Europe/Vienna:20250926T163000
DTSTAMP:20250312T140428Z
URL:https://www.dgtveit.at/en/dgtraining/presence-initial-training-incl-cl
 ass-7-radioactive-substances-iata-7-1-code-a-until-2022-pk-1-3/
SUMMARY:Presence initial training (incl. class 7 - radioactive substances) 
 - IATA 7.1 / Code A / until 2022 PK 1
DESCRIPTION:&nbsp\;\n\n\n\n\nCourse number: 37/2025\nDescription:\nClassroo
 m training for personnel responsible for the preparation of dangerous good
 s shipments (issuing the shipper's declaration for dangerous goods\, packi
 ng\, marking and labeling of packages or overpacks) - (Function code: A / 
 IATA: 7.1)\nTarget group:\nShipper of dangerous goods - including class 7 
 (radioactive substances)\nDate:\n22. - 26.09.2025\nSchedule:\nMonday to Th
 ursday 08h15 - approx. 16h30 Friday 08h15 - approx. 12h00\nLocation:\nLake
 first Coworking Space\, Eva-Maria-Mazzucco-Platz 2\, 1220 Vienna Arrival b
 y public transport: Subway line U2\, Seestadt station and approx. 3 minute
 s on foot Arrival by car: various parking garages in the immediate vicinit
 y\, e.g. Parkhaus Seehub\, Sonnenallee 16\, (daily rate € 4.50)\, Goldbe
 ck Parkgarage\, Sonnenallee 26 (daily rate € 4.50)\, various WIPARK gara
 ges (daily rate approx. € 25\,-) Accommodation: Hotel DORMERO HoHo Wien\
 , Wangari-Maathai- Platz 1 (approx. 3 minutes walk)\, FeelGood Apartments\
 , Maria-Trapp-Platz 1 (approx. 3 minutes walk) or we recommend a hotel nea
 r the subway line U2\nPrice:\n€ 950\,- excl. tax\n\n 	The price includes
 :\nTraining documents\, examination and certificate (after successful comp
 letion)\, recognized by Austro Control GmbH as well as various non-alcohol
 ic drinks (coffee and tea)\n\n\n\n\n\n\nA current IATA manual will be prov
 ided on loan for the duration of the training.\n\nFor consignors (IATA 7.1
  / function code A) a certificate recognized by Austro Control is sufficie
 nt in practice. If required\, we can also issue a certificate recognized b
 y IATA\, for which we charge € 80\,- (excl. VAT). Please indicate this b
 riefly in the "Comments" field when booking.\n\n\n\n\n\n\n\n\n\nContents:\
 n\n\n\n\n\n 	Module 0: Understanding Dangerous Goods Basics (Understanding
  Dangerous Goods Basics/Understanding General Limitations/Determining Role
 s and Responsibilities/Understanding Importance of Classification &amp\; P
 ackaging/Understanding Hazard Communication/Familiarizing with Basic Emerg
 ency Procedures)\n 	Module 1: Classification of dangerous goods (assess a 
 substance or object with regard to the classification criteria/determine t
 he description of dangerous goods/check special provisions)\n 	Module 2: P
 reparation of a consignment with dangerous goods (check packaging variants
  including their quantity limits/apply packaging requirements/apply markin
 gs and labels/assess the use of an outer packaging/prepare documentation)\
 n 	practical exercises\n\nValidity period:\n2 years\nTraining needs analys
 is:\nDue to the new aviation dangerous goods training requirements\, emplo
 yers have had to carry out an internal training needs analysis since Janua
 ry 2023. This will ensure that the required training content meets your ne
 eds. We have already prepared training needs analyses for you in accordanc
 e with the IATA regulations\, the needs analysis applicable to this traini
 ng can be found in detail below:\n\nTraining needs analysis\n\n\n\n\n
CATEGORIES:Classroom training,German,Shipper / packer of dangerous
 goods,Shipper initial training
LOCATION:Vienna / Lakefirst Coworking Space\, Eva-Maria-Mazzucco-Platz 2\, 
 Vienna\, 1220\, Austria
GEO:48.225484;16.504463
X-APPLE-STRUCTURED-LOCATION;VALUE=URI;X-ADDRESS=Eva-Maria-Mazzucco-Platz 2\
 , Vienna\, 1220\, Austria;X-APPLE-RADIUS=100;X-TITLE=Vienna / Lakefirst Co
 working Space:geo:48.225484,16.504463
END:VEVENT
BEGIN:VTIMEZONE
TZID:Europe/Vienna
X-LIC-LOCATION:Europe/Vienna
BEGIN:DAYLIGHT
DTSTART:20250330T030000
TZOFFSETFROM:+0100
TZOFFSETTO:+0200
TZNAME:CEST
END:DAYLIGHT
END:VTIMEZONE
END:VCALENDAR