BEGIN:VCALENDAR
VERSION:2.0
PRODID:-//wp-events-plugin.com//7.2.2.1//EN
TZID:Europe/Berlin
X-WR-TIMEZONE:Europe/Berlin
BEGIN:VEVENT
UID:223@dgtveit.at
DTSTART;TZID=Europe/Berlin:20260908T081500
DTEND;TZID=Europe/Berlin:20260910T163000
DTSTAMP:20260124T145911Z
URL:https://www.dgtveit.at/dgschulungen/praesenz-wiederholungsschulung-ohn
 e-klasse-7-radioaktive-stoffe-iata-7-3-code-cf-bis-2022-pk-36-9/
SUMMARY:Präsenz Wiederholungsschulung (ohne Klasse 7 – radioaktive Stoff
 e) – IATA 7.3 / Code C+F / bis 2022 PK 3+6
DESCRIPTION:\n\n\n\n\n\n\n\nKursnummer: 33/2026\nKurssprache:\nDeutsch\nBes
 chreibung:\nPräsenz-Schulung für Personal\, das für die Abwicklung oder
  die Abfertigung von Gefahrgut-Sendungen verantwortlich ist (Funktionscode
 : C+F / IATA 7.3)\nZielgruppe:\nMitarbeiterInnen von Luftfrachtagenten bzw
 . Speditionen\, die Luftfrachtbriefe für Gefahrgut-Sendungen ausstellen s
 owie MitarbeiterInnen von Bodenabfertigungsdienstleistern und Luftfahrtunt
 ernehmen\, welche die Annahmekontrolle durchführen - ohne Klasse 7 (radio
 aktive Stoffe)\nTermin:\n08. - 10.09.2026\nZeitplan:\nDienstag und Mittwoc
 h 08h15 - ca. 16h30\nDonnerstag 08h15 - ca. 12h00\nOrt:\nLakefirst Coworki
 ng Space\, Eva-Maria-Mazzucco-Platz 2\, 1220 Wien\nAnreise mit öffentlich
 en Verkehrsmitteln: U-Bahnlinie U2\, Station Seestadt und ca. 5 Minuten Fu
 ßweg\nAnreise mit PKW: diverse Parkhäuser in unmittelbarer Umgebung\, z.
 B. Parkhaus Seehub\, Sonnenallee 16\, (Tagestarif € 4\,50)\, Goldbeck Pa
 rkgarage\, Sonnenallee 26 (Tagestarif € 4\,50)\, diverse WIPARK Garagen 
 (Tagestarif ca. € 25\,-)\nUnterkunft: Hotel DORMERO HoHo Wien\, Wangari-
 Maathai- Platz 1 (ca. 5 Minuten Fußweg)\, FeelGood Apartments\, Maria-Tra
 pp-Platz 1 (ca. 5 Minuten Fußweg) bzw. empfehlen wir ein Hotel nahe der U
 -Bahnlinie U2 zu nehmen\nPreis:\n€ 600\,-exkl. Ust\n\n 	im Preis sind in
 kludiert:\nSchulungsunterlagen\, Prüfung und Zertifikat (nach erfolgreich
 em Abschluss)\, anerkannt von Austro Control GmbH und IATA sowie diverse a
 lkoholfreie Getränke (Kaffee und Tee)\n\n\n\n\n\n\nEin aktuelles IATA-Han
 dbuch wird für die Dauer der Schulung leihweise zur Verfügung gestellt.\
 n\n\n\n\n\n\n\n\n\nInhalte:\n\n\n\n\n\n 	wichtige Änderungen und Ergänzu
 ngen der IATA Gefahrgutvorschriften\n 	kurze Wiederholung wichtiger Inhalt
 e der Erstschulung\n 	praktische Übungen\n\n\nGültigkeitszeitraum:\n2 Ja
 hre\nSchulungsbedarfsanalyse:\nAufgrund der neuen Luftfahrt-Gefahrgut-Schu
 lungsanforderungen müssen Arbeitgeber seit Jänner 2023 eine interne Schu
 lungsbedarfsanalyse durchführen. Damit wird sichergestellt\, dass die erf
 orderlichen Schulungsinhalte Ihren Anforderungen entsprechen. Wir haben f
 ür Sie bereits Schulungsbedarfsanalysen entsprechend den IATA Vorschrifte
 n erstellt\, die für diese Schulung anwendbare Bedarfsanalyse finden Sie 
 im Detail nachfolgend angeführt:\n\nSchulungsbedarfsanalyse\n\n\n\n\n\n\n
 \n\n
CATEGORIES:Bodenabfertigung
 Wiederholungsschulung,Bodenabfertigungsdienstleister und
 Luftfahrtunternehmen,Deutsch,Luftfracht
 Wiederholungsschulung,Luftfrachtspeditionen,Präsenzschulungen
LOCATION:Wien / Lakefirst Coworking Space\, Eva-Maria-Mazzucco-Platz 2\, Wi
 en\, 1220\, Österreich
GEO:48.225484;16.504463
X-APPLE-STRUCTURED-LOCATION;VALUE=URI;X-ADDRESS=Eva-Maria-Mazzucco-Platz 2\
 , Wien\, 1220\, Österreich;X-APPLE-RADIUS=100;X-TITLE=Wien / Lakefirst Co
 working Space:geo:48.225484,16.504463
END:VEVENT
BEGIN:VTIMEZONE
TZID:Europe/Berlin
X-LIC-LOCATION:Europe/Berlin
BEGIN:DAYLIGHT
DTSTART:20260329T030000
TZOFFSETFROM:+0100
TZOFFSETTO:+0200
TZNAME:CEST
END:DAYLIGHT
END:VTIMEZONE
END:VCALENDAR