BEGIN:VCALENDAR
VERSION:2.0
PRODID:-//wp-events-plugin.com//7.2.2.1//EN
TZID:Europe/Berlin
X-WR-TIMEZONE:Europe/Berlin
BEGIN:VEVENT
UID:210@dgtveit.at
DTSTART;TZID=Europe/Vienna:20260511T081500
DTEND;TZID=Europe/Vienna:20260512T163000
DTSTAMP:20260124T130533Z
URL:https://www.dgtveit.at/dgschulungen/praesenz-wiederholungsschulung-ohn
 e-klasse-7-radioaktive-stoffe-iata-7-1-code-b-bis-2022-pk-2-verpacker/
SUMMARY:Präsenz Wiederholungsschulung (ohne Klasse 7 – radioaktive Stoff
 e) – IATA 7.1 / Code B / bis 2022 PK 2 Verpacker
DESCRIPTION:\n\n\n\nKursnummer: 23/2026\nKurssprache:\nDeutsch\nBeschreibun
 g:\nPräsenz-Schulung für Personal\, das für die Vorbereitung von Gefahr
 gut-Sendungen verantwortlich ist (Verpacken\, markieren und kennzeichnen d
 er Versandstücke bzw. Umverpackungen) – (Funktionscode: B / IATA: 7.1)\
 nZielgruppe:\nVerpacker von Gefahrgut - ohne Klasse 7 (radioaktive Stoffe)
 \nTermin:\n11. und 12.05.2026\nZeitplan:\nMontag und Dienstag 08h15 - ca. 
 16h30\nOrt:\nLakefirst Coworking Space\, Eva-Maria-Mazzucco-Platz 2\, 1220
  Wien\nAnreise mit öffentlichen Verkehrsmitteln: U-Bahnlinie U2\, Station
  Seestadt und ca. 5 Minuten Fußweg\nAnreise mit PKW: diverse Parkhäuser 
 in unmittelbarer Umgebung\, z.B. Parkhaus Seehub\, Sonnenallee 16\, (Tages
 tarif € 4\,50)\, Goldbeck Parkgarage\, Sonnenallee 26 (Tagestarif € 4\
 ,50)\, diverse WIPARK Garagen (Tagestarif ca. € 25\,-)\nUnterkunft: Hote
 l DORMERO HoHo Wien\, Wangari-Maathai- Platz 1 (ca. 5 Minuten Fußweg)\, F
 eelGood Apartments\, Maria-Trapp-Platz 1 (ca. 5 Minuten Fußweg) bzw. empf
 ehlen wir ein Hotel nahe der U-Bahnlinie U2 zu nehmen\nPreis:\n€ 445\,-e
 xkl. Ust\n\n 	im Preis sind inkludiert:\nSchulungsunterlagen\, Prüfung un
 d Zertifikat (nach erfolgreichem Abschluss)\, anerkannt von Austro Control
  GmbH und IATA sowie diverse alkoholfreie Getränke (Kaffee und Tee)\n\n
 \n\n\n\n\nEin aktuelles IATA-Handbuch wird für die Dauer der Schulung lei
 hweise zur Verfügung gestellt.\n\n\n\n\n\n\n\n\n\nInhalte:\n\n\n\n\n\n 	M
 odul 0: Verstehen der Gefahrgut-Grundlagen (Verstehen der Gefahrgutgrundla
 gen/Verstehen der allgemeinen Begrenzungen/Bestimmen von Rollen und Verant
 wortlichkeiten/Verstehen der Wichtigkeit der Klassifizierung &amp\; Verpac
 kung/Verstehen der Gefahrenkommunikation/mit grundlegenden Notfallmaßnahm
 en vertraut machen)\n 	Modul 1: Klassifizierung gefährlicher Güter (Eine
 n Stoff oder einen Gegenstand beurteilen im Hinblick auf die Klassifizieru
 ngskriterien/Beschreibung der gefährlichen Güter ermitteln/Sonderbestimm
 ungen prüfen)\n 	Modul 2: Vorbereitung einer Sendung mit gefährlichen G
 ütern (Verpackungsvarianten einschließlich deren Mengenbegrenzungen prü
 fen/Verpackungsanforderungen anwenden/Markierungen und Kennzeichen anbring
 en/Beurteilung der Verwendung einer Umverpackung)\n 	praktische Übungen\n
 \nGültigkeitszeitraum:\n2 Jahre\nSchulungsbedarfsanalyse:\nAufgrund der n
 euen Luftfahrt-Gefahrgut-Schulungsanforderungen müssen Arbeitgeber seit J
 änner 2023 eine interne Schulungsbedarfsanalyse durchführen. Damit wird 
 sichergestellt\, dass die erforderlichen Schulungsinhalte Ihren Anforderun
 gen entsprechen. Wir haben für Sie bereits Schulungsbedarfsanalysen entsp
 rechend den IATA Vorschriften erstellt\, die für diese Schulung anwendbar
 e Bedarfsanalyse finden Sie im Detail nachfolgend angeführt:\n\nSchulungs
 bedarfsanalyse\n\n\n\n\n
CATEGORIES:Deutsch,Präsenzschulungen,Versender / Verpacker von
 Gefahrgut,Versender Wiederholungsschulung
LOCATION:Wien / Lakefirst Coworking Space\, Eva-Maria-Mazzucco-Platz 2\, Wi
 en\, 1220\, Österreich
GEO:48.225484;16.504463
X-APPLE-STRUCTURED-LOCATION;VALUE=URI;X-ADDRESS=Eva-Maria-Mazzucco-Platz 2\
 , Wien\, 1220\, Österreich;X-APPLE-RADIUS=100;X-TITLE=Wien / Lakefirst Co
 working Space:geo:48.225484,16.504463
END:VEVENT
BEGIN:VTIMEZONE
TZID:Europe/Vienna
X-LIC-LOCATION:Europe/Vienna
BEGIN:DAYLIGHT
DTSTART:20260329T030000
TZOFFSETFROM:+0100
TZOFFSETTO:+0200
TZNAME:CEST
END:DAYLIGHT
END:VTIMEZONE
END:VCALENDAR