BEGIN:VCALENDAR
VERSION:2.0
PRODID:-//wp-events-plugin.com//7.2.2.1//EN
TZID:Europe/Berlin
X-WR-TIMEZONE:Europe/Berlin
BEGIN:VEVENT
UID:270@dgtveit.at
DTSTART;TZID=Europe/Berlin:20261117T081500
DTEND;TZID=Europe/Berlin:20261120T163000
DTSTAMP:20260124T161009Z
URL:https://www.dgtveit.at/dgschulungen/praesenz-wiederholungsschulung-ink
 l-klasse-7-radioaktive-stoffe-iata-7-3-code-cf-bis-2022-pk-36-10/
SUMMARY:Präsenz Wiederholungsschulung (inkl. Klasse 7 – radioaktive Stof
 fe) – IATA 7.3 / Code C+F / bis 2022 PK 3+6
DESCRIPTION:\n\n\n\n\n\n\n\nKursnummer: 54/2026\nKurssprache:\nDeutsch\nBes
 chreibung:\nPräsenz-Schulung für Personal\, das für die Abwicklung oder
  die Abfertigung von Gefahrgut-Sendungen verantwortlich ist (Funktionscode
 : C+F / IATA 7.3)\nZielgruppe:\nMitarbeiterInnen von Luftfrachtagenten bzw
 . Speditionen\, die Luftfrachtbriefe für Gefahrgut-Sendungen ausstellen s
 owie MitarbeiterInnen von Bodenabfertigungsdienstleistern und Luftfahrtunt
 ernehmen\, welche die Annahmekontrolle durchführen - inklusive Klasse 7 (
 radioaktive Stoffe)\nTermin:\n17. - 20.11.2026\nZeitplan:\nDienstag bis Do
 nnerstag 08h15 - ca. 16h30\nFreitag 08h15 - ca. 12h00\nOrt:\nLakefirst Cow
 orking Space\, Eva-Maria-Mazzucco-Platz 2\, 1220 Wien\nAnreise mit öffent
 lichen Verkehrsmitteln: U-Bahnlinie U2\, Station Seestadt und ca. 5 Minute
 n Fußweg\nAnreise mit PKW: diverse Parkhäuser in unmittelbarer Umgebung\
 , z.B. Parkhaus Seehub\, Sonnenallee 16\, (Tagestarif € 4\,50)\, Goldbec
 k Parkgarage\, Sonnenallee 26 (Tagestarif € 4\,50)\, diverse WIPARK Gara
 gen (Tagestarif ca. € 25\,-)\nUnterkunft: Hotel DORMERO HoHo Wien\, Wang
 ari-Maathai- Platz 1 (ca. 5 Minuten Fußweg)\, FeelGood Apartments\, Maria
 -Trapp-Platz 1 (ca. 5 Minuten Fußweg) bzw. empfehlen wir ein Hotel nahe d
 er U-Bahnlinie U2 zu nehmen\nPreis:\n€ 840\,-exkl. Ust\n\n 	im Preis sin
 d inkludiert:\nSchulungsunterlagen\, Prüfung und Zertifikat (nach erfolgr
 eichem Abschluss)\, anerkannt von Austro Control GmbH und IATA sowie diver
 se alkoholfreie Getränke (Kaffee und Tee)\n\n\n\n\n\n\nEin aktuelles IATA
 -Handbuch wird für die Dauer der Schulung leihweise zur Verfügung gestel
 lt.\n\n\n\n\n\n\n\n\n\nInhalte:\n\n\n\n\n\n 	wichtige Änderungen und Erg
 änzungen der IATA Gefahrgutvorschriften\n 	kurze Wiederholung wichtiger I
 nhalte der Erstschulung\n 	praktische Übungen\n\n\nGültigkeitszeitraum:\
 n2 Jahre\nSchulungsbedarfsanalyse:\nAufgrund der neuen Luftfahrt-Gefahrgut
 -Schulungsanforderungen müssen Arbeitgeber seit Jänner 2023 eine interne
  Schulungsbedarfsanalyse durchführen. Damit wird sichergestellt\, dass di
 e erforderlichen Schulungsinhalte Ihren Anforderungen entsprechen. Wir hab
 en für Sie bereits Schulungsbedarfsanalysen entsprechend den IATA Vorschr
 iften erstellt\, die für diese Schulung anwendbare Bedarfsanalyse finden 
 Sie im Detail nachfolgend angeführt:\n\nSchulungsbedarfsanalyse\n\n\n\n\n
 \n\n\n\n
CATEGORIES:Bodenabfertigung
 Wiederholungsschulung,Bodenabfertigungsdienstleister und
 Luftfahrtunternehmen,Deutsch,Luftfracht
 Wiederholungsschulung,Luftfrachtspeditionen,Präsenzschulungen
LOCATION:Wien / Lakefirst Coworking Space\, Eva-Maria-Mazzucco-Platz 2\, Wi
 en\, 1220\, Österreich
GEO:48.225484;16.504463
X-APPLE-STRUCTURED-LOCATION;VALUE=URI;X-ADDRESS=Eva-Maria-Mazzucco-Platz 2\
 , Wien\, 1220\, Österreich;X-APPLE-RADIUS=100;X-TITLE=Wien / Lakefirst Co
 working Space:geo:48.225484,16.504463
END:VEVENT
BEGIN:VTIMEZONE
TZID:Europe/Berlin
X-LIC-LOCATION:Europe/Berlin
BEGIN:STANDARD
DTSTART:20261025T020000
TZOFFSETFROM:+0200
TZOFFSETTO:+0100
TZNAME:CET
END:STANDARD
END:VTIMEZONE
END:VCALENDAR