BEGIN:VCALENDAR
VERSION:2.0
PRODID:-//wp-events-plugin.com//7.2.2.1//EN
TZID:Europe/Berlin
X-WR-TIMEZONE:Europe/Berlin
BEGIN:VEVENT
UID:264@dgtveit.at
DTSTART;TZID=Europe/Vienna:20261027T081500
DTEND;TZID=Europe/Vienna:20261030T163000
DTSTAMP:20260124T155940Z
URL:https://www.dgtveit.at/dgschulungen/praesenz-wiederholungsschulung-ink
 l-klasse-7-radioaktive-stoffe-iata-7-1-code-a-bis-2022-pk-1-6/
SUMMARY:Präsenz Wiederholungsschulung (inkl. Klasse 7 – radioaktive Stof
 fe) – IATA 7.1 / Code A / bis 2022 PK 1
DESCRIPTION:\n\n\n\nKursnummer: 50/2026\nKurssprache:\nDeutsch\nBeschreibun
 g:\nPräsenz-Schulung für Personal\, das für die Vorbereitung von Gefahr
 gut-Sendungen verantwortlich ist (Ausstellen der Versendererklärung für 
 gefährliche Güter\, verpacken\, markieren und kennzeichnen der Versandst
 ücke bzw. Umverpackungen) – (Funktionscode: A / IATA: 7.1)\nZielgruppe:
 \nVersender von Gefahrgut - inklusive Klasse 7 (radioaktive Stoffe)\nTermi
 n:\n27. - 30.10.2026\nZeitplan:\nDienstag bis Donnerstag 08h15 - ca. 16h30
 \nFreitag 08h15 - ca. 12h00\nOrt:\nLakefirst Coworking Space\, Eva-Maria-M
 azzucco-Platz 2\, 1220 Wien\nAnreise mit öffentlichen Verkehrsmitteln: U-
 Bahnlinie U2\, Station Seestadt und ca. 5 Minuten Fußweg\nAnreise mit PKW
 : diverse Parkhäuser in unmittelbarer Umgebung\, z.B. Parkhaus Seehub\, S
 onnenallee 16\, (Tagestarif € 4\,50)\, Goldbeck Parkgarage\, Sonnenallee
  26 (Tagestarif € 4\,50)\, diverse WIPARK Garagen (Tagestarif ca. € 25
 \,-)\nUnterkunft: Hotel DORMERO HoHo Wien\, Wangari-Maathai- Platz 1 (ca. 
 5 Minuten Fußweg)\, FeelGood Apartments\, Maria-Trapp-Platz 1 (ca. 5 Minu
 ten Fußweg) bzw. empfehlen wir ein Hotel nahe der U-Bahnlinie U2 zu nehme
 n\nPreis:\n€ 760\,-exkl. Ust\n\n 	im Preis sind inkludiert:\nSchulungsun
 terlagen\, Prüfung und Zertifikat (nach erfolgreichem Abschluss)\, anerka
 nnt von Austro Control GmbH sowie diverse alkoholfreie Getränke (Kaffee u
 nd Tee)\n\n\n\n\n\n\nEin aktuelles IATA-Handbuch wird für die Dauer der S
 chulung leihweise zur Verfügung gestellt.\n\nFür Versender (IATA 7.1 / F
 unktionscode A) reicht in der Praxis ein von der Austro Control anerkannte
 s Zertifikat. Nach Bedarf stellen wir zusätzlich auch ein von der IATA an
 erkanntes Zertifikat aus\, für welches wir € 80\,- (exkl. Ust.) in Rech
 nung stellen. Bitte bei der Buchung im Feld "Kommentar" kurz darauf hinwei
 sen.\n\n\n\n\n\n\n\n\n\nInhalte:\n\n\n\n\n\n 	wichtige Änderungen und Erg
 änzungen der IATA Gefahrgutvorschriften\n 	kurze Wiederholung wichtiger I
 nhalte der Erstschulung\n 	praktische Übungen\n\nGültigkeitszeitraum:\n2
  Jahre\nSchulungsbedarfsanalyse:\nAufgrund der neuen Luftfahrt-Gefahrgut-S
 chulungsanforderungen müssen Arbeitgeber seit Jänner 2023 eine interne S
 chulungsbedarfsanalyse durchführen. Damit wird sichergestellt\, dass die 
 erforderlichen Schulungsinhalte Ihren Anforderungen entsprechen. Wir haben
  für Sie bereits Schulungsbedarfsanalysen entsprechend den IATA Vorschrif
 ten erstellt\, die für diese Schulung anwendbare Bedarfsanalyse finden Si
 e im Detail nachfolgend angeführt:\n\nSchulungsbedarfsanalyse\n\n\n\n\n
CATEGORIES:Deutsch,Präsenzschulungen,Versender / Verpacker von
 Gefahrgut,Versender Wiederholungsschulung
LOCATION:Wien / Lakefirst Coworking Space\, Eva-Maria-Mazzucco-Platz 2\, Wi
 en\, 1220\, Österreich
GEO:48.225484;16.504463
X-APPLE-STRUCTURED-LOCATION;VALUE=URI;X-ADDRESS=Eva-Maria-Mazzucco-Platz 2\
 , Wien\, 1220\, Österreich;X-APPLE-RADIUS=100;X-TITLE=Wien / Lakefirst Co
 working Space:geo:48.225484,16.504463
END:VEVENT
BEGIN:VTIMEZONE
TZID:Europe/Vienna
X-LIC-LOCATION:Europe/Vienna
BEGIN:STANDARD
DTSTART:20261025T020000
TZOFFSETFROM:+0200
TZOFFSETTO:+0100
TZNAME:CET
END:STANDARD
END:VTIMEZONE
END:VCALENDAR