BEGIN:VCALENDAR
VERSION:2.0
PRODID:-//wp-events-plugin.com//7.2.2.1//EN
TZID:Europe/Berlin
X-WR-TIMEZONE:Europe/Berlin
BEGIN:VEVENT
UID:271@dgtveit.at
DTSTART;TZID=Europe/Berlin:20261123T081500
DTEND;TZID=Europe/Berlin:20261126T163000
DTSTAMP:20260124T161223Z
URL:https://www.dgtveit.at/dgschulungen/praesenz-erstschulung-ohne-klasse-
 7-radioaktive-stoffe-iata-7-3-code-cf-bis-2022-pk-36-14/
SUMMARY:Präsenz Erstschulung (ohne Klasse 7 – radioaktive Stoffe) – IA
 TA 7.3 / Code C+F / bis 2022 PK 3+6
DESCRIPTION:\n\n\n\n\n\n\n\nKursnummer: 55/2026\nKurssprache:\nDeutsch\nBes
 chreibung:\nPräsenz-Schulung für Personal\, das für die Abwicklung oder
  die Abfertigung von Gefahrgut-Sendungen verantwortlich ist (Funktionscode
 : C+F / IATA 7.3)\nZielgruppe:\nMitarbeiterInnen von Luftfrachtagenten bzw
 . Speditionen\, die Luftfrachtbriefe für Gefahrgut-Sendungen ausstellen s
 owie MitarbeiterInnen von Bodenabfertigungsdienstleistern und Luftfahrtunt
 ernehmen\, welche die Annahmekontrolle durchführen - ohne Klasse 7 (radio
 aktive Stoffe)\nTermin:\n23. - 26.11.2026\nZeitplan:\nMontag bis Mittwoch 
 08h15 - ca. 16h30\nDonnerstag 08h15 - ca. 12h00\nOrt:\nLakefirst Coworking
  Space\, Eva-Maria-Mazzucco-Platz 2\, 1220 Wien\nAnreise mit öffentlichen
  Verkehrsmitteln: U-Bahnlinie U2\, Station Seestadt und ca. 5 Minuten Fuß
 weg\nAnreise mit PKW: diverse Parkhäuser in unmittelbarer Umgebung\, z.B.
  Parkhaus Seehub\, Sonnenallee 16\, (Tagestarif € 4\,50)\, Goldbeck Park
 garage\, Sonnenallee 26 (Tagestarif € 4\,50)\, diverse WIPARK Garagen (T
 agestarif ca. € 25\,-)\nUnterkunft: Hotel DORMERO HoHo Wien\, Wangari-Ma
 athai- Platz 1 (ca. 5 Minuten Fußweg)\, FeelGood Apartments\, Maria-Trapp
 -Platz 1 (ca. 5 Minuten Fußweg) bzw. empfehlen wir ein Hotel nahe der U-B
 ahnlinie U2 zu nehmen\nPreis:\n€ 840\,-exkl. Ust\n\n 	im Preis sind inkl
 udiert:\nSchulungsunterlagen\, Prüfung und Zertifikat (nach erfolgreichem
  Abschluss)\, anerkannt von Austro Control GmbH und IATA sowie diverse alk
 oholfreie Getränke (Kaffee und Tee)\n\n\n\n\n\n\nEin aktuelles IATA-Handb
 uch wird für die Dauer der Schulung leihweise zur Verfügung gestellt.\n\
 n\n\n\n\n\n\n\n\nInhalte:\n\n\n\n\n\n 	Modul 0: Verstehen der Gefahrgut-Gr
 undlagen (Verstehen der Gefahrgutgrundlagen/Verstehen der allgemeinen Begr
 enzungen/Bestimmen von Rollen und Verantwortlichkeiten/Verstehen der Wicht
 igkeit der Klassifizierung &amp\; Verpackung/Verstehen der Gefahrenkommuni
 kation/mit grundlegenden Notfallmaßnahmen vertraut machen)\n 	Modul 3: Fr
 acht-Abwicklung/Fracht-Annahme (Dokumentation überprüfen/Versandstück(e
 ) überprüfen/Annahme-Verfahren durchführen)\n 	Modul 7: Sammeln von Sic
 herheitsdaten (Meldung von Gefahrgut-Unfällen\, Gefahrgut-Zwischenfällen
 \, undeklarierten/falsch deklarierten Gefahrgütern und Gefahrgut-Vorkommn
 issen)\n 	praktische Übungen\n\nGültigkeitszeitraum:\n2 Jahre\nSchulungs
 bedarfsanalyse:\nAufgrund der neuen Luftfahrt-Gefahrgut-Schulungsanforderu
 ngen müssen Arbeitgeber seit Jänner 2023 eine interne Schulungsbedarfsan
 alyse durchführen. Damit wird sichergestellt\, dass die erforderlichen Sc
 hulungsinhalte Ihren Anforderungen entsprechen. Wir haben für Sie bereits
  Schulungsbedarfsanalysen entsprechend den IATA Vorschriften erstellt\, di
 e für diese Schulung anwendbare Bedarfsanalyse finden Sie im Detail nachf
 olgend angeführt:\n\nSchulungsbedarfsanalyse\n\n\n\n\n\n\n\n\n
CATEGORIES:Bodenabfertigung Erstschulung,Bodenabfertigungsdienstleister
 und Luftfahrtunternehmen,Deutsch,Luftfracht
 Erstschulung,Luftfrachtspeditionen,Präsenzschulungen
LOCATION:Wien / Lakefirst Coworking Space\, Eva-Maria-Mazzucco-Platz 2\, Wi
 en\, 1220\, Österreich
GEO:48.225484;16.504463
X-APPLE-STRUCTURED-LOCATION;VALUE=URI;X-ADDRESS=Eva-Maria-Mazzucco-Platz 2\
 , Wien\, 1220\, Österreich;X-APPLE-RADIUS=100;X-TITLE=Wien / Lakefirst Co
 working Space:geo:48.225484,16.504463
END:VEVENT
BEGIN:VTIMEZONE
TZID:Europe/Berlin
X-LIC-LOCATION:Europe/Berlin
BEGIN:STANDARD
DTSTART:20261025T020000
TZOFFSETFROM:+0200
TZOFFSETTO:+0100
TZNAME:CET
END:STANDARD
END:VTIMEZONE
END:VCALENDAR