BEGIN:VCALENDAR
VERSION:2.0
PRODID:-//wp-events-plugin.com//7.2.2.1//EN
TZID:Europe/Berlin
X-WR-TIMEZONE:Europe/Berlin
BEGIN:VEVENT
UID:205@dgtveit.at
DTSTART;TZID=Europe/Vienna:20260505T081500
DTEND;TZID=Europe/Vienna:20260508T163000
DTSTAMP:20260124T142540Z
URL:https://www.dgtveit.at/dgschulungen/praesenz-erstschulung-ohne-klasse-
 7-radioaktive-stoffe-iata-7-3-code-cf-bis-2022-pk-36-10/
SUMMARY:Präsenz Erstschulung (ohne Klasse 7 – radioaktive Stoffe) – IA
 TA 7.3 / Code C+F / bis 2022 PK 3+6
DESCRIPTION:\n\n\n\nKursnummer: 21/2026\nKurssprache:\nDeutsch\nBeschreibun
 g:\nPräsenz-Schulung für Personal\, das für die Abwicklung oder die Abf
 ertigung von Gefahrgut-Sendungen verantwortlich ist (Funktionscode: C+F / 
 IATA 7.3)\nZielgruppe:\nMitarbeiterInnen von Luftfrachtagenten bzw. Spedit
 ionen\, die Luftfrachtbriefe für Gefahrgut-Sendungen ausstellen sowie Mit
 arbeiterInnen von Bodenabfertigungsdienstleistern und Luftfahrtunternehmen
 \, welche die Annahmekontrolle durchführen – ohne Klasse 7 (radioaktive
  Stoffe)\nTermin:\n05. - 08.05.2026\nZeitplan:\nDienstag bis Donnerstag 08
 h15 - ca. 16h30\nFreitag 08h15 - ca. 12h00\nOrt:\nGartenhotel Maria Theres
 ia\, Reimmichlstraße 25\, 6060 Hall in Tirol\nPreis:\n€ 1.040\,-exkl. U
 st\n\n 	im Preis sind inkludiert:\nSchulungsunterlagen\, Prüfung und Zert
 ifikat (nach erfolgreichem Abschluss)\, anerkannt von Austro Control GmbH
  und IATA\n\n\n\n\n\n\nEin aktuelles IATA-Handbuch wird für die Dauer d
 er Schulung leihweise zur Verfügung gestellt.\n\n\n\n\n\n\n\n\n\nInhalte:
 \n\n\n\n\n\n 	Modul 0: Verstehen der Gefahrgut-Grundlagen (Verstehen der G
 efahrgutgrundlagen/Verstehen der allgemeinen Begrenzungen/Bestimmen von Ro
 llen und Verantwortlichkeiten/Verstehen der Wichtigkeit der Klassifizierun
 g &amp\; Verpackung/Verstehen der Gefahrenkommunikation/mit grundlegenden 
 Notfallmaßnahmen vertraut machen)\n 	Modul 3: Fracht-Abwicklung/Fracht-An
 nahme (Dokumentation überprüfen/Versandstück(e) überprüfen/Annahme-Ve
 rfahren durchführen)\n 	Modul 7: Sammeln von Sicherheitsdaten (Meldung vo
 n Gefahrgut-Unfällen\, Gefahrgut-Zwischenfällen\, undeklarierten/falsch 
 deklarierten Gefahrgütern und Gefahrgut-Vorkommnissen)\n 	praktische Übu
 ngen\n\nGültigkeitszeitraum:\n2 Jahre\nSchulungsbedarfsanalyse:\nAufgrund
  der neuen Luftfahrt-Gefahrgut-Schulungsanforderungen müssen Arbeitgeber 
 seit Jänner 2023 eine interne Schulungsbedarfsanalyse durchführen. Damit
  wird sichergestellt\, dass die erforderlichen Schulungsinhalte Ihren Anfo
 rderungen entsprechen. Wir haben für Sie bereits Schulungsbedarfsanalysen
  entsprechend den IATA Vorschriften erstellt\, die für diese Schulung anw
 endbare Bedarfsanalyse finden Sie im Detail nachfolgend angeführt:\n\nSch
 ulungsbedarfsanalyse\n\n\n\n\n
CATEGORIES:Bodenabfertigung Erstschulung,Bodenabfertigungsdienstleister
 und Luftfahrtunternehmen,Deutsch,Luftfracht
 Erstschulung,Luftfrachtspeditionen,Präsenzschulungen
LOCATION:Hall in Tirol\, Gartenhotel Maria Theresia\, Reimmichlstraße 25\,
  Hall in Tirol\, 6060\, Österreich
GEO:47.286303;11.494839
X-APPLE-STRUCTURED-LOCATION;VALUE=URI;X-ADDRESS=Reimmichlstraße 25\, Hall 
 in Tirol\, 6060\, Österreich;X-APPLE-RADIUS=100;X-TITLE=Hall in Tirol\, G
 artenhotel Maria Theresia:geo:47.286303,11.494839
END:VEVENT
BEGIN:VTIMEZONE
TZID:Europe/Vienna
X-LIC-LOCATION:Europe/Vienna
BEGIN:DAYLIGHT
DTSTART:20260329T030000
TZOFFSETFROM:+0100
TZOFFSETTO:+0200
TZNAME:CEST
END:DAYLIGHT
END:VTIMEZONE
END:VCALENDAR